BEGIN:VCALENDAR
PRODID:-//github.com/rianjs/ical.net//NONSGML ical.net 4.0//EN
VERSION:2.0
BEGIN:VEVENT
DESCRIPTION:Details:\nhttps://bbyo.org/bbyo-near-you/regions/northern-regi
 on-east-baltimore-council/baltimore-council-ic-stand-up-program\n\nSummar
 y:\nJoin Baltimore Council for our IC Stand UP Program! For our program\,
  we are partnering with the Baltimore Jewish Volunteer Connection and par
 ticipating in their February Live With Purpose pr
DTEND:20210214T210000
DTSTAMP:20260423T133652Z
DTSTART:20210214T200000
LOCATION:Zoom
SEQUENCE:0
SUMMARY:Baltimore Council IC Stand UP Program
UID:4f66ffd6-a9fc-419a-bc75-3510ba985e2f
END:VEVENT
END:VCALENDAR
