BEGIN:VCALENDAR
PRODID:-//github.com/rianjs/ical.net//NONSGML ical.net 4.0//EN
VERSION:2.0
BEGIN:VEVENT
DESCRIPTION:Details:\nhttps://bbyo.org/bbyo-near-you/regions/central-regio
 n-west/sganim-overnight
DTEND:20240921T100000
DTSTAMP:20260420T102411Z
DTSTART:20240920T200000
LOCATION:Palo Alto California
SEQUENCE:0
SUMMARY:Sganim Overnight
UID:c7f0c191-3df2-452d-95ef-176f189cde36
END:VEVENT
END:VCALENDAR
