BEGIN:VCALENDAR
PRODID:-//github.com/rianjs/ical.net//NONSGML ical.net 4.0//EN
VERSION:2.0
BEGIN:VEVENT
DESCRIPTION:Details:\nhttps://bbyo.org/bbyo-near-you/regions/mid-america-r
 egion-omaha-council/winter-convention-registration-party
DTEND:20191112T190000
DTSTAMP:20260422T001803Z
DTSTART:20191112T180000
LOCATION:JCC Youth Lounge
SEQUENCE:0
SUMMARY:Winter Convention Registration Party
UID:06f60491-2921-4697-bf8d-fae2bb5d43d7
END:VEVENT
END:VCALENDAR
