BEGIN:VCALENDAR
PRODID:-//github.com/rianjs/ical.net//NONSGML ical.net 4.0//EN
VERSION:2.0
BEGIN:VEVENT
DESCRIPTION:Details:\nhttps://bbyo.org/bbyo-near-you/regions/kentucky-indi
 ana-ohio-region/hatikvah-israeli-awarness-program\n\nSummary:\nfood. fun.
  awarness of what is going on in Israel. storys and pictures of kids trip
 s over the summer.
DTEND:20061018T083000
DTSTAMP:20260419T185746Z
DTSTART:20061018T190000
LOCATION:Soin Building
SEQUENCE:0
SUMMARY:Hatikvah Israeli Awarness Program
UID:f1e7b1cc-4c16-4963-b886-7678097b9fe1
END:VEVENT
END:VCALENDAR
