BEGIN:VCALENDAR
PRODID:-//github.com/rianjs/ical.net//NONSGML ical.net 4.0//EN
VERSION:2.0
BEGIN:VEVENT
DESCRIPTION:Details:\nhttps://bbyo.org/bbyo-near-you/regions/delta-region/
 delta-spring-convention-2023
DTEND:20230423T120000
DTSTAMP:20260423T195535Z
DTSTART:20230421T170000
LOCATION:Double Tree hotel
SEQUENCE:0
SUMMARY:Delta Spring Convention 2023
UID:60257df3-889b-45ae-b078-d70dc1ec8aa6
END:VEVENT
END:VCALENDAR
