BEGIN:VCALENDAR
PRODID:-//github.com/rianjs/ical.net//NONSGML ical.net 4.0//EN
VERSION:2.0
BEGIN:VEVENT
DESCRIPTION:Details:\nhttps://bbyo.org/bbyo-near-you/regions/northern-regi
 on-east-dc-council/gw-basketball-with-bbyo-in-the-district\n\nSummary:\nC
 alling all 8th-12th-grade Jewish teens in the District! BBYO is excited t
 o offer tickets for GW's Men's Basketball game on Wednesday\, December 4t
 h at 7:00 pm. Come out to meet some other Je
DTEND:20191204T220000
DTSTAMP:20260423T002103Z
DTSTART:20191204T190000
LOCATION:Washington District of Columbia
SEQUENCE:0
SUMMARY:GW Basketball with BBYO in the District
UID:02e3883b-9c60-4ef0-848a-cf53967784b7
END:VEVENT
END:VCALENDAR
