BEGIN:VCALENDAR
PRODID:-//github.com/rianjs/ical.net//NONSGML ical.net 4.0//EN
VERSION:2.0
BEGIN:VEVENT
DESCRIPTION:Details:\nhttps://bbyo.org/bbyo-near-you/regions/lonestar-regi
 on/2019-2020-lonestar-spirit-shirt
DTEND;VALUE=DATE:20200217
DTSTAMP:20260423T133827Z
DTSTART:20200213T120000
LOCATION:BBYO Lonestar Region
SEQUENCE:0
SUMMARY:2019 2020 Lonestar Spirit Shirt
UID:772c34de-1e29-44ad-b9b4-da34addbc1ef
END:VEVENT
END:VCALENDAR
