BEGIN:VCALENDAR
PRODID:-//github.com/rianjs/ical.net//NONSGML ical.net 4.0//EN
VERSION:2.0
BEGIN:VEVENT
DESCRIPTION:Details:\nhttps://bbyo.org/bbyo-near-you/regions/connecticut-v
 alley-region/rlti-b-yachad-(1)
DTEND:20220828T140000
DTSTAMP:20260425T235408Z
DTSTART:20220823T150000
LOCATION:
SEQUENCE:0
SUMMARY:RLTI + B'Yachad
UID:640de5f4-8dc3-46e8-9e5c-d4758f64da91
END:VEVENT
END:VCALENDAR
