BEGIN:VCALENDAR
PRODID:-//github.com/rianjs/ical.net//NONSGML ical.net 4.0//EN
VERSION:2.0
BEGIN:VEVENT
DESCRIPTION:Details:\nhttps://bbyo.org/bbyo-near-you/regions/south-jersey-
 region/sjr-tournies-2022-sjr-live
DTEND:20220410T070000
DTSTAMP:20260422T101237Z
DTSTART:20220409T190000
LOCATION:Cherry Hill New Jersey
SEQUENCE:0
SUMMARY:SJR Tournies 2022: SJR Live
UID:cfefe007-9290-4662-a8f5-f6b15abf9a54
END:VEVENT
END:VCALENDAR
