BEGIN:VCALENDAR
PRODID:-//github.com/rianjs/ical.net//NONSGML ical.net 4.0//EN
VERSION:2.0
BEGIN:VEVENT
DESCRIPTION:Details:\nhttps://bbyo.org/bbyo-near-you/regions/northern-regi
 on-east-northern-virginia-council/nova-bbgg-(virtual)\n\nSummary:\nJoin N
 oVA BBG for BBGG on Sunday\, March 21st from 12-1pm on Zoom for Zumba wit
 h Ellen Goldstein!
DTEND:20210321T130000
DTSTAMP:20260423T002143Z
DTSTART:20210321T120000
LOCATION:On Zoom
SEQUENCE:0
SUMMARY:NoVA BBGG (Virtual)
UID:e3637e0a-a517-4f51-8d39-2ff0bf6d9733
END:VEVENT
END:VCALENDAR
