BEGIN:VCALENDAR
PRODID:-//github.com/rianjs/ical.net//NONSGML ical.net 4.0//EN
VERSION:2.0
BEGIN:VEVENT
DESCRIPTION:Details:\nhttps://bbyo.org/bbyo-near-you/regions/pacific-weste
 rn-region/pwrs-ic-launch-night-zoom-party
DTEND:20220922T203000
DTSTAMP:20260420T120151Z
DTSTART:20220922T193000
LOCATION:Zoom
SEQUENCE:0
SUMMARY:PWRS IC LAUNCH NIGHT ZOOM PARTY
UID:aa380114-8a20-42d0-8de5-0fc05c119faa
END:VEVENT
END:VCALENDAR
