BEGIN:VCALENDAR
PRODID:-//github.com/rianjs/ical.net//NONSGML ical.net 4.0//EN
VERSION:2.0
BEGIN:VEVENT
DESCRIPTION:Details:\nhttps://bbyo.org/bbyo-near-you/regions/michigan-regi
 on/calendaring-day-(1)
DTEND:20240605T180000
DTSTAMP:20260423T001838Z
DTSTART:20240605T163000
LOCATION:Adat Shalom
SEQUENCE:0
SUMMARY:Calendaring Day
UID:f0a3d7a5-0b36-42db-8280-3c506d1c8ec5
END:VEVENT
END:VCALENDAR
