BEGIN:VCALENDAR
PRODID:-//github.com/rianjs/ical.net//NONSGML ical.net 4.0//EN
VERSION:2.0
BEGIN:VEVENT
DESCRIPTION:Details:\nhttps://bbyo.org/bbyo-near-you/regions/lonestar-regi
 on/houston-azaa-flag-football-league-spring-2022
DTEND:20220522T170000
DTSTAMP:20260425T124743Z
DTSTART:20220522T150000
LOCATION:Godwin Park
SEQUENCE:0
SUMMARY:Houston AZAA Flag Football League Spring 2022
UID:86ae00d4-4e8d-4738-a20a-9cfe99af311b
END:VEVENT
END:VCALENDAR
