BEGIN:VCALENDAR
PRODID:-//github.com/rianjs/ical.net//NONSGML ical.net 4.0//EN
VERSION:2.0
BEGIN:VEVENT
DESCRIPTION:Details:\nhttps://bbyo.org/bbyo-near-you/regions/great-midwest
 -region/bbg-fall-fest\n\nSummary:\nJoin your fellow Bnai Brith Girls for 
 the first in-person BBYO Regional event of the year! Teens will come and 
 enjoy a day of fall crafts with BBG. Participants will receive a BBG shir
 t to tie dye\, Fall themed candle decorating materials\, and some fall tr
 eats!
DTEND:20201108T143000
DTSTAMP:20260425T183328Z
DTSTART:20201108T130000
LOCATION:Evanston Illinois
SEQUENCE:0
SUMMARY:BBG Fall Fest
UID:054a62de-a067-43a8-aeb1-0cf41784566d
END:VEVENT
END:VCALENDAR
