BEGIN:VCALENDAR
PRODID:-//github.com/rianjs/ical.net//NONSGML ical.net 4.0//EN
VERSION:2.0
BEGIN:VEVENT
DESCRIPTION:Details:\nhttps://bbyo.org/bbyo-near-you/regions/north-florida
 -region/nfr-kallah-2016-(pc3000)\n\nSummary:\nKallah 2016 will be a uniqu
 e convention sure to be memorable for all involved! This weekend-long con
 vention for the members of North Florida Region at beautiful Camp Wewa wi
 ll bring together
DTEND:20161030T110000
DTSTAMP:20260423T200906Z
DTSTART:20161028T180000
LOCATION:Camp Wewa
SEQUENCE:0
SUMMARY:NFR Kallah 2016 (PC3000)
UID:14845880-6684-4392-a8b6-30ed2f02e1af
END:VEVENT
END:VCALENDAR
