BEGIN:VCALENDAR
PRODID:-//github.com/rianjs/ical.net//NONSGML ical.net 4.0//EN
VERSION:2.0
BEGIN:VEVENT
DESCRIPTION:Details:\nhttps://bbyo.org/bbyo-near-you/regions/south-jersey-
 region/sjr-regional-board-meeting
DTEND:20200924T200000
DTSTAMP:20260424T102022Z
DTSTART:20200924T190000
LOCATION:JCC Parking Lot
SEQUENCE:0
SUMMARY:SJR Regional Board Meeting
UID:42900281-448c-4bca-86d1-c81b97b42501
END:VEVENT
END:VCALENDAR
