BEGIN:VCALENDAR
PRODID:-//github.com/rianjs/ical.net//NONSGML ical.net 4.0//EN
VERSION:2.0
BEGIN:VEVENT
DESCRIPTION:Details:\nhttps://bbyo.org/bbyo-near-you/regions/liberty-regio
 n/liberty-spring-convention-2024-(1)
DTEND:20240519T143000
DTSTAMP:20260421T141205Z
DTSTART:20240517T160000
LOCATION:Oxford Pennsylvania
SEQUENCE:0
SUMMARY:Liberty Spring Convention 2024
UID:e25e3299-765f-4a7e-861e-29f3dd7a389c
END:VEVENT
END:VCALENDAR
