BEGIN:VCALENDAR
PRODID:-//github.com/rianjs/ical.net//NONSGML ical.net 4.0//EN
VERSION:2.0
BEGIN:VEVENT
DESCRIPTION:Details:\nhttps://bbyo.org/bbyo-near-you/regions/northern-regi
 on-east-dc-council/monday-meet-up-(6)
DTEND:20220509T200000
DTSTAMP:20260420T103348Z
DTSTART:20220509T190000
LOCATION:
SEQUENCE:0
SUMMARY:Monday Meet Up
UID:1ad0e9c4-f49c-4575-9370-aad033e8724d
END:VEVENT
END:VCALENDAR
