BEGIN:VCALENDAR
PRODID:-//github.com/rianjs/ical.net//NONSGML ical.net 4.0//EN
VERSION:2.0
BEGIN:VEVENT
DESCRIPTION:Details:\nhttps://bbyo.org/bbyo-near-you/regions/north-florida
 -region/nfr-s-ic-swag-pack-2022
DTEND:20220221T120000
DTSTAMP:20260425T235355Z
DTSTART:20220217T120000
LOCATION:NFR's IC Swag Pack
SEQUENCE:0
SUMMARY:NFR's IC Swag Pack 2022
UID:a52a8517-79f1-4a03-96ca-c250c6dde5a2
END:VEVENT
END:VCALENDAR
