BEGIN:VCALENDAR
PRODID:-//github.com/rianjs/ical.net//NONSGML ical.net 4.0//EN
VERSION:2.0
BEGIN:VEVENT
DESCRIPTION:Details:\nhttps://bbyo.org/bbyo-near-you/regions/north-texas-o
 klahoma-region/nto-b-yachad-l-tid-convention
DTEND:20231203T160000
DTSTAMP:20260423T002414Z
DTSTART:20231201T160000
LOCATION:Dallas Texas
SEQUENCE:0
SUMMARY:NTO B'yachad L'tid Convention
UID:69f38303-62ba-4ae1-b33c-8c2c328b8259
END:VEVENT
END:VCALENDAR
