BEGIN:VCALENDAR
PRODID:-//github.com/rianjs/ical.net//NONSGML ical.net 4.0//EN
VERSION:2.0
BEGIN:VEVENT
DESCRIPTION:Details:\nhttps://bbyo.org/bbyo-near-you/regions/connecticut-v
 alley-region/cvr-64th-regional-board-elections
DTEND:20230402T160000
DTSTAMP:20260423T200917Z
DTSTART:20230402T114500
LOCATION:Congregation B'nai Jacob
SEQUENCE:0
SUMMARY:CVR 64th Regional Board Elections
UID:bf0af7b1-052f-4c42-89ce-1daf0e6bf109
END:VEVENT
END:VCALENDAR
