BEGIN:VCALENDAR
PRODID:-//github.com/rianjs/ical.net//NONSGML ical.net 4.0//EN
VERSION:2.0
BEGIN:VEVENT
DESCRIPTION:Details:\nhttps://bbyo.org/bbyo-near-you/regions/mid-america-r
 egion-st-louis-council/mid-america-region-aza-kickoff
DTEND:20200917T230000
DTSTAMP:20260422T202506Z
DTSTART:20200917T200000
LOCATION:
SEQUENCE:0
SUMMARY:Mid-America Region AZA Kickoff
UID:fccf6321-0a88-43d8-936f-f70eca320c44
END:VEVENT
END:VCALENDAR
