BEGIN:VCALENDAR
PRODID:-//github.com/rianjs/ical.net//NONSGML ical.net 4.0//EN
VERSION:2.0
BEGIN:VEVENT
DESCRIPTION:Details:\nhttps://bbyo.org/bbyo-near-you/regions/lonestar-regi
 on/college-station-bowling-with-bbyo\n\nSummary:\nWe are so excited to be
  coming to College Station on Sunday\, October 13th for a fun program wit
 h teen leaders from Houston from 12pm-2pm at Grand Station! $10 for bowli
 ng and pizza!
DTEND:20191013T140000
DTSTAMP:20260423T042918Z
DTSTART:20191013T120000
LOCATION:South College Station Texas
SEQUENCE:0
SUMMARY:College Station Bowling with BBYO
UID:a015e823-33d4-4f84-99f3-79e4450c7147
END:VEVENT
END:VCALENDAR
