BEGIN:VCALENDAR
PRODID:-//github.com/rianjs/ical.net//NONSGML ical.net 4.0//EN
VERSION:2.0
BEGIN:VEVENT
DESCRIPTION:Details:\nhttps://bbyo.org/bbyo-near-you/regions/mid-america-r
 egion-st-louis-council/slc-chapter-rush-week
DTEND:20220830T200000
DTSTAMP:20260422T143810Z
DTSTART:20220830T190000
LOCATION:Chesterfield JCC
SEQUENCE:0
SUMMARY:SLC Chapter Rush Week
UID:25e34161-326c-46c3-8415-25f8272f25f6
END:VEVENT
END:VCALENDAR
