BEGIN:VCALENDAR
PRODID:-//github.com/rianjs/ical.net//NONSGML ical.net 4.0//EN
VERSION:2.0
BEGIN:VEVENT
DESCRIPTION:Details:\nhttps://bbyo.org/bbyo-near-you/regions/rocky-mountai
 n-region/february-denver-chapter-meeting-2-5
DTEND:20190205T203000
DTSTAMP:20260426T030333Z
DTSTART:20190205T191500
LOCATION:Denver Colorado
SEQUENCE:0
SUMMARY:February Denver Chapter Meeting 2/5
UID:b99e48d4-fa29-4bf0-b0b4-c40e2594610a
END:VEVENT
END:VCALENDAR
