BEGIN:VCALENDAR
PRODID:-//github.com/rianjs/ical.net//NONSGML ical.net 4.0//EN
VERSION:2.0
BEGIN:VEVENT
DESCRIPTION:Details:\nhttps://bbyo.org/bbyo-near-you/regions/greater-jerse
 y-region/west-essex-bbg/west-essex-bbg-interest-event-teens
DTEND:20240919T200000
DTSTAMP:20260424T064208Z
DTSTART:20240919T190000
LOCATION:Caldwell New Jersey
SEQUENCE:0
SUMMARY:West Essex BBG Interest Event - Teens
UID:3c065a76-0d22-48ea-90e7-69e1cdcea047
END:VEVENT
END:VCALENDAR
