BEGIN:VCALENDAR
PRODID:-//github.com/rianjs/ical.net//NONSGML ical.net 4.0//EN
VERSION:2.0
BEGIN:VEVENT
DESCRIPTION:Details:\nhttps://bbyo.org/bbyo-near-you/regions/central-regio
 n-west/crw-ultimate-convention-package-(pc-4000)\n\nSummary:\nSign up for
  Central Region West's Ultimate Convention Package!  This package guarant
 ees registration for all three of our Regional Conventions: Leadership Su
 mmits\, Kallah\, and Spring Convent
DTEND:20160110T060000
DTSTAMP:20260419T213553Z
DTSTART:20160108T150000
LOCATION:Central Region West
SEQUENCE:0
SUMMARY:CRW Ultimate Convention Package (PC 4000)
UID:a2b16877-1c50-49ef-a438-a0a15f4f5582
END:VEVENT
END:VCALENDAR
