BEGIN:VCALENDAR
PRODID:-//github.com/rianjs/ical.net//NONSGML ical.net 4.0//EN
VERSION:2.0
BEGIN:VEVENT
DESCRIPTION:Details:\nhttps://bbyo.org/bbyo-near-you/regions/delta-region/
 new-orleans-travel-spring-con
DTEND:20240407T120000
DTSTAMP:20260420T180515Z
DTSTART:20240405T130000
LOCATION:
SEQUENCE:0
SUMMARY:New orleans travel spring con
UID:faaa5ba1-ef73-436e-8805-5003fb62d534
END:VEVENT
END:VCALENDAR
