BEGIN:VCALENDAR
PRODID:-//github.com/rianjs/ical.net//NONSGML ical.net 4.0//EN
VERSION:2.0
BEGIN:VEVENT
DESCRIPTION:Details:\nhttps://bbyo.org/bbyo-near-you/regions/north-florida
 -region/nfr-fall-board-retreat
DTEND:20220904T110000
DTSTAMP:20260422T125157Z
DTSTART:20220902T173000
LOCATION:Kissimmee\, Florida
SEQUENCE:0
SUMMARY:NFR Fall Board Retreat
UID:34cfbb64-f373-4462-a43a-b2138d261e06
END:VEVENT
END:VCALENDAR
