BEGIN:VCALENDAR
PRODID:-//github.com/rianjs/ical.net//NONSGML ical.net 4.0//EN
VERSION:2.0
BEGIN:VEVENT
DESCRIPTION:Details:\nhttps://bbyo.org/bbyo-near-you/regions/mid-america-r
 egion-st-louis-council/council-leadership-retreat
DTEND:20210829T130000
DTSTAMP:20260422T055329Z
DTSTART:20210827T180000
LOCATION:Airbnb\, Downtown STL
SEQUENCE:0
SUMMARY:Council Leadership Retreat
UID:9394ab0a-8a28-4d0d-9a4f-7c075bfac39d
END:VEVENT
END:VCALENDAR
