BEGIN:VCALENDAR
PRODID:-//github.com/rianjs/ical.net//NONSGML ical.net 4.0//EN
VERSION:2.0
BEGIN:VEVENT
DESCRIPTION:Details:\nhttps://bbyo.org/bbyo-near-you/regions/northern-regi
 on-east-northern-virginia-council/nova-council-global-havdallah\n\nSummar
 y:\nJoin NoVA for our Global Havdallah event\, filled with movies\, snack
 s\, fun activities\, bonding with friends\, making blankets for charity\,
  and more!
DTEND:20191207T210000
DTSTAMP:20260425T182956Z
DTSTART:20191207T180000
LOCATION:Fairfax Virginia
SEQUENCE:0
SUMMARY:NoVA Council Global Havdallah
UID:c592d7d4-b4f0-497e-b8f1-8bad972ab037
END:VEVENT
END:VCALENDAR
