BEGIN:VCALENDAR
PRODID:-//github.com/rianjs/ical.net//NONSGML ical.net 4.0//EN
VERSION:2.0
BEGIN:VEVENT
DESCRIPTION:Details:\nhttps://bbyo.org/bbyo-near-you/regions/lonestar-regi
 on/scc-fall-fest-friendsgiving\n\nSummary:\n \n\nJoin Austin Jewish teens
  at the Shalom Austin JCC for an afternoon of fun with Jewish friends\, A
 ZAA/BBGG athletics\, Cookie Swap\, and a catered Friendsgiving Dinner.\n\
 nPease note that if yo
DTEND:20191103T180000
DTSTAMP:20260425T235251Z
DTSTART:20191103T150000
LOCATION:Austin Texas
SEQUENCE:0
SUMMARY:SCC Fall Fest Friendsgiving
UID:d05f8ba3-3b7e-4fca-9068-e6582269ded0
END:VEVENT
END:VCALENDAR
