BEGIN:VCALENDAR
PRODID:-//github.com/rianjs/ical.net//NONSGML ical.net 4.0//EN
VERSION:2.0
BEGIN:VEVENT
DESCRIPTION:Details:\nhttps://bbyo.org/bbyo-near-you/regions/greater-jerse
 y-region/greater-jersey-bbyo-life-con-2024\n\nSummary:\nJoin GJHRR at our
  final convention of the 2023/24 programming year on Friday\, May 17th-Su
 nday\, May 19th.  LIFE (Leadership Is For Everyone) Convention is a conve
 ntion for BBYO members to celebrate all we have and will continue to acco
 mplish! \n\nThe weekend will be chock full of fun programs engaging membe
 rs in ways that have yet to be experienced.  With lots of activities\, le
 arning moments\, inspirational senior speeches and amazing memories with 
 your friends\, this is the place to be!! \n\nBusing will be provided from
  locations to be determined.  Registration for each bus stop must meet an
 d/or exceed 20 attendees. If they do not\, attendees from those bus stops
  will need to arrange for their own transportation to the convention. All
  other attendees must be dropped off and picked up.  Reminder: NO TEEN DR
 IVING!!!!\n\nScholarship is available. (Apply here: https://bbyo.org/scho
 larship-form ) The deadline to apply for scholarship is April 28th\n\nTee
 ns will be able to submit a roommate request of ONE person when registeri
 ng for convention. Requests must be mutual to be considered. Every effort
  is made to ensure that teens are comfortable in their rooms and most tee
 ns are paired with a teen from their chapter and/or a delegate who is in 
 the same grade. \n\nCost of the weekend is $400.  We will also be offerin
 g a 3 DAY FLASH SALE for $375\, when registration opens from March 31-Apr
 il 2nd\n\nThe deadline to cancel with a full refund (minus a $36 administ
 rative fee) will be April 28th.  We will be unable to offer refunds for c
 ancellations following this date.
DTEND:20240519T150000
DTSTAMP:20260419T122842Z
DTSTART:20240517T170000
LOCATION:Nyack  New York
SEQUENCE:0
SUMMARY:GREATER JERSEY BBYO LIFE CON 2024
UID:577cf0e4-c3cf-4f99-83bb-fa48f666740d
END:VEVENT
END:VCALENDAR
