BEGIN:VCALENDAR
PRODID:-//github.com/rianjs/ical.net//NONSGML ical.net 4.0//EN
VERSION:2.0
BEGIN:VEVENT
DESCRIPTION:Details:\nhttps://bbyo.org/bbyo-near-you/regions/mountain-regi
 on/scottsdale-parent-info-session
DTEND:20240819T200000
DTSTAMP:20260425T211506Z
DTSTART:20240819T191500
LOCATION:
SEQUENCE:0
SUMMARY:Scottsdale Parent Info Session
UID:6dae6d97-d4a0-4d5b-8c81-2c22b322865e
END:VEVENT
END:VCALENDAR
