BEGIN:VCALENDAR
PRODID:-//github.com/rianjs/ical.net//NONSGML ical.net 4.0//EN
VERSION:2.0
BEGIN:VEVENT
DESCRIPTION:Details:\nhttps://bbyo.org/bbyo-near-you/regions/michigan-regi
 on/the-gorosh-family-building-entrepreneurship-progra
DTEND:20221106T110000
DTSTAMP:20260423T042700Z
DTSTART:20221104T160000
LOCATION:
SEQUENCE:0
SUMMARY:The Gorosh Family Building Entrepreneurship Program for BBGs
UID:2d0e279e-eacf-42cf-962e-5476876780f4
END:VEVENT
END:VCALENDAR
