BEGIN:VCALENDAR
PRODID:-//github.com/rianjs/ical.net//NONSGML ical.net 4.0//EN
VERSION:2.0
BEGIN:VEVENT
DESCRIPTION:Details:\nhttps://bbyo.org/bbyo-near-you/regions/hudson-valley
 -region/hudson-valley-fair\n\nSummary:\nOur first in-person program of 20
 21 is finally here! Join us on Sunday March 21st in the back parking lot 
 of the JCC of Mid-Westchester from 1-2:30PM for our "county fair"!
DTEND:20210321T143000
DTSTAMP:20260422T202406Z
DTSTART:20210321T130000
LOCATION:Scarsdale New York
SEQUENCE:0
SUMMARY:Hudson Valley Fair
UID:a1b8de01-9f29-4885-8c83-15b0a6d0050e
END:VEVENT
END:VCALENDAR
