BEGIN:VCALENDAR
PRODID:-//github.com/rianjs/ical.net//NONSGML ical.net 4.0//EN
VERSION:2.0
BEGIN:VEVENT
DESCRIPTION:Details:\nhttps://bbyo.org/bbyo-near-you/regions/kentucky-indi
 ana-ohio-region/kio-chapter-board-execs
DTEND:20180819T100000
DTSTAMP:20260424T102058Z
DTSTART:20180817T190000
LOCATION:Cincinnati Ohio
SEQUENCE:0
SUMMARY:KIO Chapter Board Execs
UID:37bd4dc4-47c2-4084-9d0d-34541c33d4f7
END:VEVENT
END:VCALENDAR
