BEGIN:VCALENDAR
PRODID:-//github.com/rianjs/ical.net//NONSGML ical.net 4.0//EN
VERSION:2.0
BEGIN:VEVENT
DESCRIPTION:Details:\nhttps://bbyo.org/bbyo-near-you/regions/delta-region/
 memphis-bbyo-kickoff!\n\nSummary:\nCome join Memphis BBYO as we kick off 
 the year in style!! We will be playing Knockerball\, a new exciting twist
  on soccer\, Wear something you don't mind getting wet and dirty cause we
  will be
DTEND:20160817T190000
DTSTAMP:20260422T020106Z
DTSTART:20160817T170000
LOCATION:Memphis JCC
SEQUENCE:0
SUMMARY:Memphis BBYO Kickoff!
UID:e876551a-737e-436e-bda7-ae6404c230da
END:VEVENT
END:VCALENDAR
