BEGIN:VCALENDAR
PRODID:-//github.com/rianjs/ical.net//NONSGML ical.net 4.0//EN
VERSION:2.0
BEGIN:VEVENT
DESCRIPTION:Details:\nhttps://bbyo.org/bbyo-near-you/regions/keystone-moun
 tain-region/kmr-kickoff-at-the-pirates-game\n\nSummary:\nCome celebrate t
 he start of the BBYO year with 70 Jewish teens and  enjoy the last game o
 f the Pirates season. Price of the event includes transportation\, pizza 
 before the game and the ticke
DTEND:20180923T163000
DTSTAMP:20260419T190243Z
DTSTART:20180923T113000
LOCATION:PNC Park
SEQUENCE:0
SUMMARY:KMR Kickoff at the Pirates Game
UID:ecf1488a-66ab-476b-a640-15ef936f6dfc
END:VEVENT
END:VCALENDAR
