BEGIN:VCALENDAR
PRODID:-//github.com/rianjs/ical.net//NONSGML ical.net 4.0//EN
VERSION:2.0
BEGIN:VEVENT
DESCRIPTION:Details:\nhttps://bbyo.org/bbyo-near-you/regions/evergreen-reg
 ion/seattle-mercer-island-global-shabbat
DTEND:20191213T200000
DTSTAMP:20260419T123153Z
DTSTART:20191213T180000
LOCATION:Private Home
SEQUENCE:0
SUMMARY:Seattle/Mercer Island Global Shabbat
UID:28667ad2-3c37-40f0-bf1b-f2eb91495258
END:VEVENT
END:VCALENDAR
