BEGIN:VCALENDAR
PRODID:-//github.com/rianjs/ical.net//NONSGML ical.net 4.0//EN
VERSION:2.0
BEGIN:VEVENT
DESCRIPTION:Details:\nhttps://bbyo.org/bbyo-near-you/regions/hudson-valley
 -region/hvr-j-serve
DTEND:20190407T150000
DTSTAMP:20260421T100942Z
DTSTART:20190407T120000
LOCATION:White Plains
SEQUENCE:0
SUMMARY:HVR J-Serve
UID:c6a7bfbe-aec4-445a-a316-86eac2eb0f09
END:VEVENT
END:VCALENDAR
