BEGIN:VCALENDAR
PRODID:-//github.com/rianjs/ical.net//NONSGML ical.net 4.0//EN
VERSION:2.0
BEGIN:VEVENT
DESCRIPTION:Details:\nhttps://bbyo.org/bbyo-near-you/regions/south-jersey-
 region/sjr-it-2018-the-future-is-ours
DTEND;VALUE=DATE:20180324
DTSTAMP:20260423T042533Z
DTSTART;VALUE=DATE:20180323
LOCATION:
SEQUENCE:0
SUMMARY:SJR IT 2018: The Future is Ours
UID:504fdc5f-0c5f-4058-9faf-2352f37a0719
END:VEVENT
END:VCALENDAR
