BEGIN:VCALENDAR
PRODID:-//github.com/rianjs/ical.net//NONSGML ical.net 4.0//EN
VERSION:2.0
BEGIN:VEVENT
DESCRIPTION:Details:\nhttps://bbyo.org/bbyo-near-you/regions/northern-regi
 on-east-dc-council/nre-regional-convention-2017-flash-sale-(pc301\n\nSumm
 ary:\nTHIS LINK IS FOR THE 1 DAY FLASH SALE- LINK WILL ONLY BE LIVE ON 11
 /28/16) \nRegional Convention (RC) is the annual event where DC\, Baltimo
 re\, and Northern Virginia Council's come together t
DTEND:20170116T113000
DTSTAMP:20260422T101408Z
DTSTART:20170113T153000
LOCATION:Hilton Alexandria Mark Center
SEQUENCE:0
SUMMARY:NRE - Regional Convention 2017 - FLASH SALE (PC3010)
UID:5a736aa3-d9e0-461c-8e1d-4131af8d8dca
END:VEVENT
END:VCALENDAR
