BEGIN:VCALENDAR
PRODID:-//github.com/rianjs/ical.net//NONSGML ical.net 4.0//EN
VERSION:2.0
BEGIN:VEVENT
DESCRIPTION:Details:\nhttps://bbyo.org/bbyo-near-you/regions/lonestar-regi
 on/austin-chapter-elections
DTEND:20200112T160000
DTSTAMP:20260422T020106Z
DTSTART:20200112T140000
LOCATION:Austin Texas
SEQUENCE:0
SUMMARY:Austin Chapter Elections
UID:b95ab3a4-9dbc-4936-bd23-4684523e07db
END:VEVENT
END:VCALENDAR
