BEGIN:VCALENDAR
PRODID:-//github.com/rianjs/ical.net//NONSGML ical.net 4.0//EN
VERSION:2.0
BEGIN:VEVENT
DESCRIPTION:Details:\nhttps://bbyo.org/bbyo-near-you/regions/nassau-suffol
 k-region/nsr-ic-2024-launch-party
DTEND:20230928T203000
DTSTAMP:20260420T100604Z
DTSTART:20230928T190000
LOCATION:Plainview New York
SEQUENCE:0
SUMMARY:NSR IC 2024 Launch Party
UID:43a93dc7-d416-4816-8814-84f13a06651b
END:VEVENT
END:VCALENDAR
