BEGIN:VCALENDAR
PRODID:-//github.com/rianjs/ical.net//NONSGML ical.net 4.0//EN
VERSION:2.0
BEGIN:VEVENT
DESCRIPTION:Details:\nhttps://bbyo.org/bbyo-near-you/regions/keystone-moun
 tain-region/second-floor-summer-sunday
DTEND:20221030T130000
DTSTAMP:20260422T113737Z
DTSTART:20221030T120000
LOCATION:The Second Floor
SEQUENCE:0
SUMMARY:Second Floor Summer Sunday
UID:9288a4c8-137d-4715-8599-e94e07a99d7b
END:VEVENT
END:VCALENDAR
