BEGIN:VCALENDAR
PRODID:-//github.com/rianjs/ical.net//NONSGML ical.net 4.0//EN
VERSION:2.0
BEGIN:VEVENT
DESCRIPTION:Details:\nhttps://bbyo.org/bbyo-near-you/regions/rocky-mountai
 n-region/rmr-chapter-leadership-training-institute-fall-201\n\nSummary:\n
 Learn from counterparts and plan with your chapter boards as the 61st and
  62nd Regional Boards prepare you for a successful term!
DTEND:20160911T140000
DTSTAMP:20260423T214756Z
DTSTART:20160911T100000
LOCATION:JCC Denver
SEQUENCE:0
SUMMARY:RMR Chapter Leadership Training Institute-Fall 2016
UID:48bbd902-a823-42dd-87c1-d4a615ff14b0
END:VEVENT
END:VCALENDAR
