BEGIN:VCALENDAR
PRODID:-//github.com/rianjs/ical.net//NONSGML ical.net 4.0//EN
VERSION:2.0
BEGIN:VEVENT
DESCRIPTION:Details:\nhttps://bbyo.org/bbyo-near-you/regions/northern-regi
 on-east-dc-council/spring-19-chapter-execs\n\nSummary:\nChapter Execs Tra
 ining
DTEND:20190106T200000
DTSTAMP:20260421T221243Z
DTSTART:20190106T173000
LOCATION:Rockville Maryland
SEQUENCE:0
SUMMARY:Spring '19 Chapter Execs
UID:4685c5bb-1f8e-485a-aa75-a4199b102c09
END:VEVENT
END:VCALENDAR
