BEGIN:VCALENDAR
PRODID:-//github.com/rianjs/ical.net//NONSGML ical.net 4.0//EN
VERSION:2.0
BEGIN:VEVENT
DESCRIPTION:Details:\nhttps://bbyo.org/bbyo-near-you/regions/hudson-valley
 -region/summer-program-fair\n\nSummary:\nParents and members learning abo
 ut summer programs from people who went on them. A fun way to learn about
  the opportunities for summer 2017!
DTEND:20161206T194500
DTSTAMP:20260422T202650Z
DTSTART:20161206T190000
LOCATION:JCC of Mid-Westchester
SEQUENCE:0
SUMMARY:Summer Program Fair
UID:39b1f18e-a806-4871-bd65-d137d619a3cb
END:VEVENT
END:VCALENDAR
