BEGIN:VCALENDAR
PRODID:-//github.com/rianjs/ical.net//NONSGML ical.net 4.0//EN
VERSION:2.0
BEGIN:VEVENT
DESCRIPTION:Details:\nhttps://bbyo.org/bbyo-near-you/regions/miami-region/
 fall-kickoff
DTEND:20240907T220000
DTSTAMP:20260425T235208Z
DTSTART:20240907T190000
LOCATION: Fort Lauderdale Florida
SEQUENCE:0
SUMMARY:Fall Kickoff
UID:78031bb3-dfcf-4929-b5f9-7aba784b7e83
END:VEVENT
END:VCALENDAR
